BEGIN:VCALENDAR
VERSION:2.0
PRODID:-//Claudia-Korsten-Ring - ECPv6.15.20//NONSGML v1.0//EN
CALSCALE:GREGORIAN
METHOD:PUBLISH
X-WR-CALNAME:Claudia-Korsten-Ring
X-ORIGINAL-URL:https://claudia-korsten-ring.de
X-WR-CALDESC:Veranstaltungen für Claudia-Korsten-Ring
REFRESH-INTERVAL;VALUE=DURATION:PT1H
X-Robots-Tag:noindex
X-PUBLISHED-TTL:PT1H
BEGIN:VTIMEZONE
TZID:Europe/Berlin
BEGIN:DAYLIGHT
TZOFFSETFROM:+0100
TZOFFSETTO:+0200
TZNAME:CEST
DTSTART:20240331T010000
END:DAYLIGHT
BEGIN:STANDARD
TZOFFSETFROM:+0200
TZOFFSETTO:+0100
TZNAME:CET
DTSTART:20241027T010000
END:STANDARD
BEGIN:DAYLIGHT
TZOFFSETFROM:+0100
TZOFFSETTO:+0200
TZNAME:CEST
DTSTART:20250330T010000
END:DAYLIGHT
BEGIN:STANDARD
TZOFFSETFROM:+0200
TZOFFSETTO:+0100
TZNAME:CET
DTSTART:20251026T010000
END:STANDARD
BEGIN:DAYLIGHT
TZOFFSETFROM:+0100
TZOFFSETTO:+0200
TZNAME:CEST
DTSTART:20260329T010000
END:DAYLIGHT
BEGIN:STANDARD
TZOFFSETFROM:+0200
TZOFFSETTO:+0100
TZNAME:CET
DTSTART:20261025T010000
END:STANDARD
BEGIN:DAYLIGHT
TZOFFSETFROM:+0100
TZOFFSETTO:+0200
TZNAME:CEST
DTSTART:20270328T010000
END:DAYLIGHT
BEGIN:STANDARD
TZOFFSETFROM:+0200
TZOFFSETTO:+0100
TZNAME:CET
DTSTART:20271031T010000
END:STANDARD
END:VTIMEZONE
BEGIN:VEVENT
DTSTART;TZID=Europe/Berlin:20260308T110000
DTEND;TZID=Europe/Berlin:20260308T120000
DTSTAMP:20260422T044225
CREATED:20260301T174914Z
LAST-MODIFIED:20260301T174914Z
UID:10012388-1772967600-1772971200@claudia-korsten-ring.de
SUMMARY:Info-Call zur Frauenreise nach Nord-Island am Weltfrauentag
DESCRIPTION:Info-Call zur Frauenreise nach Nord-Island am Weltfrauentag\n\nAm Weltfrauentag\, Sonntag\, 8. März um 11 Uhr\, öffnen Mirjam Scheer und ich\neinen weiteren 60-minütigen Info-Zoom-Call zur Frauenreise nach Nord-Island. \nDieser besondere Tag steht für weibliche Würde\, Selbstbestimmung und den Mut\, dem eigenen Weg zu folgen.\nAus genau dieser Haltung ist auch diese Reise entstanden. \nNord-Island mit seiner Weite\, seinem klaren Licht und seiner elementaren Naturkraft lädt Dich ein\,\nDir selbst neu zu begegnen. Diese Reise verbindet Landschaft\, Gemeinschaft und innere Ausrichtung im weiblichen Feld. \nIm Zoom-Raum geben wir Dir Einblicke in Ablauf\, Inhalte und Intention der Reise.\nDu kannst Deine Fragen stellen\, spüren\, lauschen und prüfen\, ob diese Reise mit Deinem inneren Weg in Resonanz geht. \nDer Info-Call ist für Dich\, wenn Du Dich von Island berührt fühlst und\ndie Kraft einer bewussten Frauenreise erleben möchtest. \nOrt: Online via ZoomDauer: ca. 60 MinutenDen Zugangslink erhältst Du nach Anmeldung per Nachricht. \nWir freuen uns auf Dich. \nWeiblich verbundene GrüßeClaudia Korsten-Ring & Mirjam Scheer
URL:https://claudia-korsten-ring.de/veranstaltung/info-call-zur-frauenreise-nach-nord-island-am-weltfrauentag/
CATEGORIES:Frauenreisen,Online per Zoom,Sidebar
ATTACH;FMTTYPE=image/jpeg:https://claudia-korsten-ring.de/wp-content/uploads/2026/03/Island_InfoCall_083026.jpg
ORGANIZER;CN="Claudia Korsten-Ring":MAILTO:buchung@claudia-korsten-ring.de
LOCATION:
END:VEVENT
BEGIN:VEVENT
DTSTART;TZID=Europe/Berlin:20251206T090000
DTEND;TZID=Europe/Berlin:20251206T183000
DTSTAMP:20260422T044225
CREATED:20250201T180838Z
LAST-MODIFIED:20251108T085917Z
UID:10010469-1765011600-1765045800@claudia-korsten-ring.de
SUMMARY:Die 7 Energiezentren der Weiblichkeit
DESCRIPTION:Die 7 Energiezentren der Weiblichkeit\n✨ Der andere Weg durch die Chakren in der weiblichen Körperin ✨\nErlebe in der tief gehenden und besonderen Reihe „Die 7 Energiezentren der Weiblichkeit“ der Akademie für Weiblichkeit jedes Zentrum auf weibliche Weise. Tief spüren\, erinnern\, vertrauen. Durch Meditation\, Bewegung\, Atmung und kosmische Begleiter verbindest Du Dich mit Deinen Energiezentren. \n📅 Termine:\n🔴  Deine Wurzeln – Urvertrauen und Erdung in Deiner Körperin (Muladhara) \n🟠 Dein Schoßraum – Dein süßer Wohnsitz – Weibliche Energie durch Sinnlichkeit und Kreativität (Svadisthana) \n🟡 Dein Bauchgefühl\, das strahlende Juwel – Selbstbewusstsein und innere Kraft entfalten (Manipura) \n💚 Dein Herzraum die vollkommene Reinheit – Liebe und Herzöffnung erleben (Anahata) \n🔵 Deine Stimme ist Wahrhaftigkeit – Ausdruckskraft und Wahrheit spüren (Vishuddha)\n🟣 Dein sechster Sinn – Intuition und Klarheit vertiefen (Ajna) \n⚪ Deine Krone – Spirituelle Weiblichkeit und kosmische Verbindung (Sahasrara) \n⏰ Jeweils Samstag\, 09:00 – 18:00 Uhr\n📍 Ort: Ois is Yoga – Vierkirchen\n💰 Kosten: Einzelbuchung 185 € \n✨ Anmeldung & Infos: auf der Seite der Akademie
URL:https://claudia-korsten-ring.de/veranstaltung/akademie-fuer-weiblichkeit-chakren-reihe/2025-12-06/
CATEGORIES:Akademie für Weiblichkeit,Klangbad,prozessorientierte Frauenarbeit,Sidebar
ATTACH;FMTTYPE=image/jpeg:https://claudia-korsten-ring.de/wp-content/uploads/2025/03/Chakren-mobil-Header.jpg
ORGANIZER;CN="Claudia Korsten-Ring":MAILTO:buchung@claudia-korsten-ring.de
END:VEVENT
BEGIN:VEVENT
DTSTART;TZID=Europe/Berlin:20251108T090000
DTEND;TZID=Europe/Berlin:20251108T183000
DTSTAMP:20260422T044225
CREATED:20250201T180838Z
LAST-MODIFIED:20251108T085917Z
UID:10010468-1762592400-1762626600@claudia-korsten-ring.de
SUMMARY:Die 7 Energiezentren der Weiblichkeit
DESCRIPTION:Die 7 Energiezentren der Weiblichkeit\n✨ Der andere Weg durch die Chakren in der weiblichen Körperin ✨\nErlebe in der tief gehenden und besonderen Reihe „Die 7 Energiezentren der Weiblichkeit“ der Akademie für Weiblichkeit jedes Zentrum auf weibliche Weise. Tief spüren\, erinnern\, vertrauen. Durch Meditation\, Bewegung\, Atmung und kosmische Begleiter verbindest Du Dich mit Deinen Energiezentren. \n📅 Termine:\n🔴  Deine Wurzeln – Urvertrauen und Erdung in Deiner Körperin (Muladhara) \n🟠 Dein Schoßraum – Dein süßer Wohnsitz – Weibliche Energie durch Sinnlichkeit und Kreativität (Svadisthana) \n🟡 Dein Bauchgefühl\, das strahlende Juwel – Selbstbewusstsein und innere Kraft entfalten (Manipura) \n💚 Dein Herzraum die vollkommene Reinheit – Liebe und Herzöffnung erleben (Anahata) \n🔵 Deine Stimme ist Wahrhaftigkeit – Ausdruckskraft und Wahrheit spüren (Vishuddha)\n🟣 Dein sechster Sinn – Intuition und Klarheit vertiefen (Ajna) \n⚪ Deine Krone – Spirituelle Weiblichkeit und kosmische Verbindung (Sahasrara) \n⏰ Jeweils Samstag\, 09:00 – 18:00 Uhr\n📍 Ort: Ois is Yoga – Vierkirchen\n💰 Kosten: Einzelbuchung 185 € \n✨ Anmeldung & Infos: auf der Seite der Akademie
URL:https://claudia-korsten-ring.de/veranstaltung/akademie-fuer-weiblichkeit-chakren-reihe/2025-11-08/
CATEGORIES:Akademie für Weiblichkeit,Klangbad,prozessorientierte Frauenarbeit,Sidebar
ATTACH;FMTTYPE=image/jpeg:https://claudia-korsten-ring.de/wp-content/uploads/2025/03/Chakren-mobil-Header.jpg
ORGANIZER;CN="Claudia Korsten-Ring":MAILTO:buchung@claudia-korsten-ring.de
END:VEVENT
BEGIN:VEVENT
DTSTART;TZID=Europe/Berlin:20251025T090000
DTEND;TZID=Europe/Berlin:20251025T183000
DTSTAMP:20260422T044225
CREATED:20250201T180838Z
LAST-MODIFIED:20251108T085917Z
UID:10012327-1761382800-1761417000@claudia-korsten-ring.de
SUMMARY:Die 7 Energiezentren der Weiblichkeit
DESCRIPTION:Die 7 Energiezentren der Weiblichkeit\n✨ Der andere Weg durch die Chakren in der weiblichen Körperin ✨\nErlebe in der tief gehenden und besonderen Reihe „Die 7 Energiezentren der Weiblichkeit“ der Akademie für Weiblichkeit jedes Zentrum auf weibliche Weise. Tief spüren\, erinnern\, vertrauen. Durch Meditation\, Bewegung\, Atmung und kosmische Begleiter verbindest Du Dich mit Deinen Energiezentren. \n📅 Termine:\n🔴  Deine Wurzeln – Urvertrauen und Erdung in Deiner Körperin (Muladhara) \n🟠 Dein Schoßraum – Dein süßer Wohnsitz – Weibliche Energie durch Sinnlichkeit und Kreativität (Svadisthana) \n🟡 Dein Bauchgefühl\, das strahlende Juwel – Selbstbewusstsein und innere Kraft entfalten (Manipura) \n💚 Dein Herzraum die vollkommene Reinheit – Liebe und Herzöffnung erleben (Anahata) \n🔵 Deine Stimme ist Wahrhaftigkeit – Ausdruckskraft und Wahrheit spüren (Vishuddha)\n🟣 Dein sechster Sinn – Intuition und Klarheit vertiefen (Ajna) \n⚪ Deine Krone – Spirituelle Weiblichkeit und kosmische Verbindung (Sahasrara) \n⏰ Jeweils Samstag\, 09:00 – 18:00 Uhr\n📍 Ort: Ois is Yoga – Vierkirchen\n💰 Kosten: Einzelbuchung 185 € \n✨ Anmeldung & Infos: auf der Seite der Akademie
URL:https://claudia-korsten-ring.de/veranstaltung/akademie-fuer-weiblichkeit-chakren-reihe/2025-10-25/
CATEGORIES:Akademie für Weiblichkeit,Klangbad,prozessorientierte Frauenarbeit,Sidebar
ATTACH;FMTTYPE=image/jpeg:https://claudia-korsten-ring.de/wp-content/uploads/2025/03/Chakren-mobil-Header.jpg
ORGANIZER;CN="Claudia Korsten-Ring":MAILTO:buchung@claudia-korsten-ring.de
END:VEVENT
BEGIN:VEVENT
DTSTART;TZID=Europe/Berlin:20250531T090000
DTEND;TZID=Europe/Berlin:20250531T183000
DTSTAMP:20260422T044225
CREATED:20250201T180838Z
LAST-MODIFIED:20251108T085917Z
UID:10010465-1748682000-1748716200@claudia-korsten-ring.de
SUMMARY:Die 7 Energiezentren der Weiblichkeit
DESCRIPTION:Die 7 Energiezentren der Weiblichkeit\n✨ Der andere Weg durch die Chakren in der weiblichen Körperin ✨\nErlebe in der tief gehenden und besonderen Reihe „Die 7 Energiezentren der Weiblichkeit“ der Akademie für Weiblichkeit jedes Zentrum auf weibliche Weise. Tief spüren\, erinnern\, vertrauen. Durch Meditation\, Bewegung\, Atmung und kosmische Begleiter verbindest Du Dich mit Deinen Energiezentren. \n📅 Termine:\n🔴  Deine Wurzeln – Urvertrauen und Erdung in Deiner Körperin (Muladhara) \n🟠 Dein Schoßraum – Dein süßer Wohnsitz – Weibliche Energie durch Sinnlichkeit und Kreativität (Svadisthana) \n🟡 Dein Bauchgefühl\, das strahlende Juwel – Selbstbewusstsein und innere Kraft entfalten (Manipura) \n💚 Dein Herzraum die vollkommene Reinheit – Liebe und Herzöffnung erleben (Anahata) \n🔵 Deine Stimme ist Wahrhaftigkeit – Ausdruckskraft und Wahrheit spüren (Vishuddha)\n🟣 Dein sechster Sinn – Intuition und Klarheit vertiefen (Ajna) \n⚪ Deine Krone – Spirituelle Weiblichkeit und kosmische Verbindung (Sahasrara) \n⏰ Jeweils Samstag\, 09:00 – 18:00 Uhr\n📍 Ort: Ois is Yoga – Vierkirchen\n💰 Kosten: Einzelbuchung 185 € \n✨ Anmeldung & Infos: auf der Seite der Akademie
URL:https://claudia-korsten-ring.de/veranstaltung/akademie-fuer-weiblichkeit-chakren-reihe/2025-05-31/
CATEGORIES:Akademie für Weiblichkeit,Klangbad,prozessorientierte Frauenarbeit,Sidebar
ATTACH;FMTTYPE=image/jpeg:https://claudia-korsten-ring.de/wp-content/uploads/2025/03/Chakren-mobil-Header.jpg
ORGANIZER;CN="Claudia Korsten-Ring":MAILTO:buchung@claudia-korsten-ring.de
END:VEVENT
BEGIN:VEVENT
DTSTART;TZID=Europe/Berlin:20250412T090000
DTEND;TZID=Europe/Berlin:20250412T183000
DTSTAMP:20260422T044225
CREATED:20250201T180838Z
LAST-MODIFIED:20251108T085917Z
UID:10010464-1744448400-1744482600@claudia-korsten-ring.de
SUMMARY:Die 7 Energiezentren der Weiblichkeit
DESCRIPTION:Die 7 Energiezentren der Weiblichkeit\n✨ Der andere Weg durch die Chakren in der weiblichen Körperin ✨\nErlebe in der tief gehenden und besonderen Reihe „Die 7 Energiezentren der Weiblichkeit“ der Akademie für Weiblichkeit jedes Zentrum auf weibliche Weise. Tief spüren\, erinnern\, vertrauen. Durch Meditation\, Bewegung\, Atmung und kosmische Begleiter verbindest Du Dich mit Deinen Energiezentren. \n📅 Termine:\n🔴  Deine Wurzeln – Urvertrauen und Erdung in Deiner Körperin (Muladhara) \n🟠 Dein Schoßraum – Dein süßer Wohnsitz – Weibliche Energie durch Sinnlichkeit und Kreativität (Svadisthana) \n🟡 Dein Bauchgefühl\, das strahlende Juwel – Selbstbewusstsein und innere Kraft entfalten (Manipura) \n💚 Dein Herzraum die vollkommene Reinheit – Liebe und Herzöffnung erleben (Anahata) \n🔵 Deine Stimme ist Wahrhaftigkeit – Ausdruckskraft und Wahrheit spüren (Vishuddha)\n🟣 Dein sechster Sinn – Intuition und Klarheit vertiefen (Ajna) \n⚪ Deine Krone – Spirituelle Weiblichkeit und kosmische Verbindung (Sahasrara) \n⏰ Jeweils Samstag\, 09:00 – 18:00 Uhr\n📍 Ort: Ois is Yoga – Vierkirchen\n💰 Kosten: Einzelbuchung 185 € \n✨ Anmeldung & Infos: auf der Seite der Akademie
URL:https://claudia-korsten-ring.de/veranstaltung/akademie-fuer-weiblichkeit-chakren-reihe/2025-04-12/
CATEGORIES:Akademie für Weiblichkeit,Klangbad,prozessorientierte Frauenarbeit,Sidebar
ATTACH;FMTTYPE=image/jpeg:https://claudia-korsten-ring.de/wp-content/uploads/2025/03/Chakren-mobil-Header.jpg
ORGANIZER;CN="Claudia Korsten-Ring":MAILTO:buchung@claudia-korsten-ring.de
END:VEVENT
BEGIN:VEVENT
DTSTART;TZID=Europe/Berlin:20250329T090000
DTEND;TZID=Europe/Berlin:20250329T183000
DTSTAMP:20260422T044225
CREATED:20250201T180838Z
LAST-MODIFIED:20251108T085917Z
UID:10010463-1743238800-1743273000@claudia-korsten-ring.de
SUMMARY:Die 7 Energiezentren der Weiblichkeit
DESCRIPTION:Die 7 Energiezentren der Weiblichkeit\n✨ Der andere Weg durch die Chakren in der weiblichen Körperin ✨\nErlebe in der tief gehenden und besonderen Reihe „Die 7 Energiezentren der Weiblichkeit“ der Akademie für Weiblichkeit jedes Zentrum auf weibliche Weise. Tief spüren\, erinnern\, vertrauen. Durch Meditation\, Bewegung\, Atmung und kosmische Begleiter verbindest Du Dich mit Deinen Energiezentren. \n📅 Termine:\n🔴  Deine Wurzeln – Urvertrauen und Erdung in Deiner Körperin (Muladhara) \n🟠 Dein Schoßraum – Dein süßer Wohnsitz – Weibliche Energie durch Sinnlichkeit und Kreativität (Svadisthana) \n🟡 Dein Bauchgefühl\, das strahlende Juwel – Selbstbewusstsein und innere Kraft entfalten (Manipura) \n💚 Dein Herzraum die vollkommene Reinheit – Liebe und Herzöffnung erleben (Anahata) \n🔵 Deine Stimme ist Wahrhaftigkeit – Ausdruckskraft und Wahrheit spüren (Vishuddha)\n🟣 Dein sechster Sinn – Intuition und Klarheit vertiefen (Ajna) \n⚪ Deine Krone – Spirituelle Weiblichkeit und kosmische Verbindung (Sahasrara) \n⏰ Jeweils Samstag\, 09:00 – 18:00 Uhr\n📍 Ort: Ois is Yoga – Vierkirchen\n💰 Kosten: Einzelbuchung 185 € \n✨ Anmeldung & Infos: auf der Seite der Akademie
URL:https://claudia-korsten-ring.de/veranstaltung/akademie-fuer-weiblichkeit-chakren-reihe/2025-03-29/
CATEGORIES:Akademie für Weiblichkeit,Klangbad,prozessorientierte Frauenarbeit,Sidebar
ATTACH;FMTTYPE=image/jpeg:https://claudia-korsten-ring.de/wp-content/uploads/2025/03/Chakren-mobil-Header.jpg
ORGANIZER;CN="Claudia Korsten-Ring":MAILTO:buchung@claudia-korsten-ring.de
END:VEVENT
END:VCALENDAR