BEGIN:VCALENDAR
VERSION:2.0
PRODID:-//Claudia-Korsten-Ring - ECPv6.15.20//NONSGML v1.0//EN
CALSCALE:GREGORIAN
METHOD:PUBLISH
X-ORIGINAL-URL:https://claudia-korsten-ring.de
X-WR-CALDESC:Veranstaltungen für Claudia-Korsten-Ring
REFRESH-INTERVAL;VALUE=DURATION:PT1H
X-Robots-Tag:noindex
X-PUBLISHED-TTL:PT1H
BEGIN:VTIMEZONE
TZID:Europe/Berlin
BEGIN:DAYLIGHT
TZOFFSETFROM:+0100
TZOFFSETTO:+0200
TZNAME:CEST
DTSTART:20240331T010000
END:DAYLIGHT
BEGIN:STANDARD
TZOFFSETFROM:+0200
TZOFFSETTO:+0100
TZNAME:CET
DTSTART:20241027T010000
END:STANDARD
BEGIN:DAYLIGHT
TZOFFSETFROM:+0100
TZOFFSETTO:+0200
TZNAME:CEST
DTSTART:20250330T010000
END:DAYLIGHT
BEGIN:STANDARD
TZOFFSETFROM:+0200
TZOFFSETTO:+0100
TZNAME:CET
DTSTART:20251026T010000
END:STANDARD
BEGIN:DAYLIGHT
TZOFFSETFROM:+0100
TZOFFSETTO:+0200
TZNAME:CEST
DTSTART:20260329T010000
END:DAYLIGHT
BEGIN:STANDARD
TZOFFSETFROM:+0200
TZOFFSETTO:+0100
TZNAME:CET
DTSTART:20261025T010000
END:STANDARD
END:VTIMEZONE
BEGIN:VEVENT
DTSTART;VALUE=DATE:20250307
DTEND;VALUE=DATE:20250311
DTSTAMP:20260424T123845
CREATED:20241017T181129Z
LAST-MODIFIED:20250322T112551Z
UID:10008345-1741330800-1741589999@claudia-korsten-ring.de
SUMMARY:Frauen-Wochenende Deine Körperin ist Dein Tempel
DESCRIPTION:Deine Körperin  ist Dein Tempel –\nEhre den heiligen Raum in Dir vom 07. bis 09. März 2025\n\nFrauen-Wochenende\n\n\n Bist Du bereit für die Veränderung in deinem Leben?\n Möchtest du alte Glaubenssätze zum Thema Weiblichkeit erkennen und loslassen?\n Magst Du die Kraft der Verbindung im Kollektiv der Frauen erfahren?\n Du wirst mit heilsamen Bewegungen\, Meditation und Klang in Deiner Weise durch das Wochenende gehen.\n\n\n\nAn einem Frauen-Wochenende mit weiblicher Energie einzutauchen\, zu reflektieren und transformieren\, ist ein Geschenk an dich selbst.\nIm geschützten Raum Wachstum\, Heilwerden und Kraft erkennen und daraus schöpfen.\nAn diesem Frauen-Wochenende gehst Du\, im geschützten Kreis\, bewusste Schritte in Deine Energie-Wende für mehr weibliche Intuition und Gefühl.\nDie heilsamen Bewegungen\, Meditationen\, tönen und Impulse durch Berührung und Stimmgabeln begleiten Dich auf diesem Weg.\n\n\n\nAlles DARF – nichts MUSS! \nKomm mit und nimm Deinen Platz im Kreis ein. \n\n\nEine komplett ausgestattete Matte erwartet dich.\n\n\n\nDeine Claudia\nHüterin der Weiblichkeit / Energiefrau / Yogalehrerin\n\n\n\n\n\nVoraussetzung / Preise / Anmeldung\n\nVoraussetzungen gibt es keine.\nSeminargebühren für das Wochenende\n388\,– €\nzzgl. Unterbringung und Verpflegung\nWeitere Infos zum Frauen-Wochenende\n\n 
URL:https://claudia-korsten-ring.de/veranstaltung/frauen-wochenende-dein-koerper-ist-dein-tempel/
LOCATION:Schloss Blumenthal\, Blumenthal 1\, 86551 Aichach-Klingen\, Blumenthal 1\, Aichach-Klingen\, Bayern\, 86551\, Deutschland
CATEGORIES:Frauen-Wochenenden,Frauen-Wochenenden in Schloss Blumenthal,prozessorientierte Frauenarbeit,Sidebar
ATTACH;FMTTYPE=image/jpeg:https://claudia-korsten-ring.de/wp-content/uploads/2025/02/Frauenwochenenden_in-Blumenthal-1-scaled.jpg
ORGANIZER;CN="Claudia Korsten-Ring":MAILTO:buchung@claudia-korsten-ring.de
END:VEVENT
END:VCALENDAR