BEGIN:VCALENDAR
VERSION:2.0
PRODID:-//Claudia-Korsten-Ring - ECPv6.15.17.1//NONSGML v1.0//EN
CALSCALE:GREGORIAN
METHOD:PUBLISH
X-ORIGINAL-URL:https://claudia-korsten-ring.de
X-WR-CALDESC:Veranstaltungen für Claudia-Korsten-Ring
REFRESH-INTERVAL;VALUE=DURATION:PT1H
X-Robots-Tag:noindex
X-PUBLISHED-TTL:PT1H
BEGIN:VTIMEZONE
TZID:Europe/Berlin
BEGIN:DAYLIGHT
TZOFFSETFROM:+0100
TZOFFSETTO:+0200
TZNAME:CEST
DTSTART:20250330T010000
END:DAYLIGHT
BEGIN:STANDARD
TZOFFSETFROM:+0200
TZOFFSETTO:+0100
TZNAME:CET
DTSTART:20251026T010000
END:STANDARD
BEGIN:DAYLIGHT
TZOFFSETFROM:+0100
TZOFFSETTO:+0200
TZNAME:CEST
DTSTART:20260329T010000
END:DAYLIGHT
BEGIN:STANDARD
TZOFFSETFROM:+0200
TZOFFSETTO:+0100
TZNAME:CET
DTSTART:20261025T010000
END:STANDARD
BEGIN:DAYLIGHT
TZOFFSETFROM:+0100
TZOFFSETTO:+0200
TZNAME:CEST
DTSTART:20270328T010000
END:DAYLIGHT
BEGIN:STANDARD
TZOFFSETFROM:+0200
TZOFFSETTO:+0100
TZNAME:CET
DTSTART:20271031T010000
END:STANDARD
END:VTIMEZONE
BEGIN:VEVENT
DTSTART;VALUE=DATE:20260208
DTEND;VALUE=DATE:20260216
DTSTAMP:20260420T062401
CREATED:20260105T121026Z
LAST-MODIFIED:20260108T144926Z
UID:10012359-1770534000-1771138799@claudia-korsten-ring.de
SUMMARY:Zyklus-Journaling-Woche online
DESCRIPTION:Eine Einladung zur Erinnerung\nDiese Zyklus-Journaling-Woche ist eine Einladung\, Dich wieder mit Deinem zyklischen Erleben zu verbinden.\nNicht über Wissen\, nicht über Kontrolle\, sondern über Wahrnehmung.\nNicht über Leistung\, sondern über Lauschen. \n7 Tage in Folge erhältst Du einen sanften E-Mail-Impuls\, der Dich durch die Stufen des Zyklus-Journaling-Weges führt.\nVon der Erinnerung bis zur Würdigung im Alltag. \nDie Impulse öffnen Räume.\nSie wollen nichts erklären\, nichts analysieren und nichts optimieren.\nSie erinnern Dich an das\, was Deine Körperin längst weiß. \nWorum es in dieser Woche nicht geht:\n\nEs geht nicht darum\, einem Konzept zu folgen oder Deinen Zyklus zu kontrollieren.\nEs geht nicht um das Planen eines „perfekten“ Eisprungs.\nNicht um das Erreichen oder Vermeiden einer Schwangerschaft.\nNicht um Diagnosen\, Verdachtsmomente oder das Erzeugen neuer Unsicherheiten.\nZyklus-Journaling dient nicht der Bewertung Deiner Körperin.\nEs dient der Beziehung zu ihr.\n\nWorum es geht:\n\nEs geht um das Fühlen Deiner Körperin in ihrem zyklischen Sein.\nUm das Erleben eines balancierten\, gesunden Zustands\, der sich vertraut anfühlt.\nUm ein inneres Wissen\, dem Du folgen kannst\, statt äußeren Vorgaben.\n\nErst aus dieser Vertrautheit heraus entsteht Orientierung.\nUnd erst dann zeigt sich ganz von selbst auch das Erkennen von Unregelmäßigkeiten.\nNicht aus Angst oder Kontrolle\, sondern aus Verbindung. \nAblauf der Woche:\n\ntäglich ein Journaling-Impuls per E-Mail\n5–10 Minuten Zeit für Dich\n\nEinladung zum freiwilligen Austausch\nDie geschützte WhatsApp-Gruppe ist ein leiser Erinnerungsraum.\nHier kannst Du\, wenn Du magst teilen\, was sich zeigt\, was sich erinnert\, was sich wandelt.\nOhne Druck. Ohne Kommentarzwang. In Deinem Tempo. \nWürdigung im Kreis\nZum Abschluss dieser Woche öffnet sich ein 90-minütiger gemeinsamer Zoom-Raum.Kein Unterricht\, keine Zusammenfassung\, keine Anleitung. \nDieser Raum dient der gemeinsamen Würdigung dessen\, was sich in den sieben Tagen gezeigt hat. Ein geschützter Kreis für Nachspüren\, Zuhören und Dasein.Für das\, was neu oder vielleicht zum ersten Mal bewusst erinnert wurde. \n\nDie Teilnahme ist freiwillig.\nEs gibt keinen Kamera- oder Rededruck.\nDu darfst teilen\, schweigen\, lauschen oder einfach im Feld sein.\nEs wird keine Aufzeichnung geben.\n\nDieser Kreis versteht sich als Schwelle.Nicht als Ende\, sondern als bewusstes Innehalten nach einer zyklischen Erfahrung. \nDiese 7 Tage sind ein GESCHENK.\nEin bewusst gehaltener Raum zum Innehalten\, Lauschen und Erinnern.\nEine Einladung\, Dich selbst im zyklischen Fluss dieser Woche wahrzunehmen\, ohne etwas leisten oder erreichen zu müssen.\nDie Teilnahme ist kostenfrei und getragen von der Haltung\, dass Tiefe erfahren werden darf\, bevor sie benannt wird. \nDie Challenge ist kein Ersatz für eine langfristige Begleitung.\nSie ist ein Einstieg. Ein erstes Wieder-in-Kontakt-Kommen mit Deinem Zyklus als innerem Weg. \nWenn Du spürst\, dass Dein zyklisches Erleben Dich tiefer ruft\,\nöffnet sich im Anschluss der Raum für das Zyklus-Journaling-Jahresprogramm\,\nin dem ich Frauen über einen Jahres-Zyklus hinweg begleiten werde. \nFür wen ist diese Woche und das Jahresprogramm:\n\nFür alle Frauen zwischen Menarche und Menopause\nFür Frauen\, die sich erinnern wollen.\nFür Frauen\, die ihrer Körperin wieder vertrauen möchten.\nFür Frauen\, die Tiefe suchen\, nicht Kontrolle.\n\n  \nAnmeldung an:\nbuchung@claudia-korsten-ring.de \n  \nIm Vertrauen auf Deinen Rhythmusund in Würdigung Deiner zyklischen Wahrheit \nClaudiaHüterin der Weiblichkeit · Zyklusmentorin · Mystikerin der neuen Zeit \n  \n 
URL:https://claudia-korsten-ring.de/veranstaltung/zyklus-journaling-challenge-online/
CATEGORIES:Akademie für Weiblichkeit,Online-Workshop,Sidebar
ATTACH;FMTTYPE=image/jpeg:https://claudia-korsten-ring.de/wp-content/uploads/2026/01/Akademie-ZyklusJournaling-Challenge-mobil_B1920x500_2025-1.jpg
ORGANIZER;CN="Claudia Korsten-Ring":MAILTO:buchung@claudia-korsten-ring.de
LOCATION:https://claudia-korsten-ring.de/veranstaltung/zyklus-journaling-challenge-online/
END:VEVENT
BEGIN:VEVENT
DTSTART;TZID=Europe/Berlin:20260308T110000
DTEND;TZID=Europe/Berlin:20260308T120000
DTSTAMP:20260420T062401
CREATED:20260301T174914Z
LAST-MODIFIED:20260301T174914Z
UID:10012388-1772967600-1772971200@claudia-korsten-ring.de
SUMMARY:Info-Call zur Frauenreise nach Nord-Island am Weltfrauentag
DESCRIPTION:Info-Call zur Frauenreise nach Nord-Island am Weltfrauentag\n\nAm Weltfrauentag\, Sonntag\, 8. März um 11 Uhr\, öffnen Mirjam Scheer und ich\neinen weiteren 60-minütigen Info-Zoom-Call zur Frauenreise nach Nord-Island. \nDieser besondere Tag steht für weibliche Würde\, Selbstbestimmung und den Mut\, dem eigenen Weg zu folgen.\nAus genau dieser Haltung ist auch diese Reise entstanden. \nNord-Island mit seiner Weite\, seinem klaren Licht und seiner elementaren Naturkraft lädt Dich ein\,\nDir selbst neu zu begegnen. Diese Reise verbindet Landschaft\, Gemeinschaft und innere Ausrichtung im weiblichen Feld. \nIm Zoom-Raum geben wir Dir Einblicke in Ablauf\, Inhalte und Intention der Reise.\nDu kannst Deine Fragen stellen\, spüren\, lauschen und prüfen\, ob diese Reise mit Deinem inneren Weg in Resonanz geht. \nDer Info-Call ist für Dich\, wenn Du Dich von Island berührt fühlst und\ndie Kraft einer bewussten Frauenreise erleben möchtest. \nOrt: Online via ZoomDauer: ca. 60 MinutenDen Zugangslink erhältst Du nach Anmeldung per Nachricht. \nWir freuen uns auf Dich. \nWeiblich verbundene GrüßeClaudia Korsten-Ring & Mirjam Scheer
URL:https://claudia-korsten-ring.de/veranstaltung/info-call-zur-frauenreise-nach-nord-island-am-weltfrauentag/
CATEGORIES:Frauenreisen,Online per Zoom,Sidebar
ATTACH;FMTTYPE=image/jpeg:https://claudia-korsten-ring.de/wp-content/uploads/2026/03/Island_InfoCall_083026.jpg
ORGANIZER;CN="Claudia Korsten-Ring":MAILTO:buchung@claudia-korsten-ring.de
LOCATION:
END:VEVENT
BEGIN:VEVENT
DTSTART;TZID=Europe/Berlin:20260309T100000
DTEND;TZID=Europe/Berlin:20260309T160000
DTSTAMP:20260420T062401
CREATED:20260225T181002Z
LAST-MODIFIED:20260225T181200Z
UID:10012387-1773050400-1773072000@claudia-korsten-ring.de
SUMMARY:Frauenstreik am 09. März 2026 – ENOUGH
DESCRIPTION:ENOUGH! GENUG! Wir nehmen uns frei!\n  \nFrauenstreik · 9. März\n  \nAm 9. März setzen Frauen* weltweit ein sichtbares Zeichen.\nBezahlte wie unbezahlte Arbeit tritt für einen Tag in den Hintergrund\, damit sichtbar wird\, was Frauen täglich tragen\, organisieren\, halten und bewegen. \nDieser Tag steht für Bewusstsein\, Würde und Veränderung.\nEr zeigt\, wie sehr unsere Gesellschaft auf der Kraft\, der Fürsorge und der Kompetenz von Frauen ruht. \nUnterschiede im Einkommen\, die einseitige Verantwortung für Care-Arbeit\, mangelnde Anerkennung\,\nGrenzüberschreitungen und Gewalt prägen für viele Frauen den Alltag.\nDiese Realität verdient Sichtbarkeit und sie fordert Veränderung. \nAm 9. März treten wir gemeinsam nach vorne.\nAus Klarheit\, innerer Aufrichtung und aus dem Wissen um unseren Wert. \nAuch in Pfaffenhofen versammeln wir uns.\nWir zeigen Präsenz\, stehen füreinander ein.\nUnd erinnern unsere kollektive Kraft. \nDiese Initiative steht auf eigenen Füßen.\nSie verkörpert Respekt\, Fairness und gleiche Chancen. \nDiese Aktion parteipolitisch unabhängig.\nWir stehen für Respekt\, Fairness und gleiche Chancen.\nAlle\, die diese Werte unterstützen\, sind herzlich willkommen. \n  \nEinladung an die Frauen\nin meinem regionalen Feld\n  \nIch lade Dich ein\, mit nach Pfaffenhofen zu kommen.\nKomm mit Deiner Stimme\, Deiner Würde und Deiner Geschichte. \nWenn Frauen sich nebeneinander stellen\, entsteht Kraft.\nWenn sie sich aneinander lehnen\, entsteht Tragfähigkeit.\nWenn wir gemeinsam sichtbar werden\, verändert sich der Ton einer Gesellschaft. \nAm 9. März gehen wir aufrecht.\nWir sind sichtbar. Und wir bleiben.\n  \n  \nMöchtest du mitfahren\, dann melde dich gerne bei mir\n0173 / 9594427
URL:https://claudia-korsten-ring.de/veranstaltung/frauenstreik-am-09-maerz-2026-enough/
CATEGORIES:Sidebar
ATTACH;FMTTYPE=image/jpeg:https://claudia-korsten-ring.de/wp-content/uploads/2026/02/Frauenstreik.jpg
ORGANIZER;CN="Claudia Korsten-Ring":MAILTO:buchung@claudia-korsten-ring.de
END:VEVENT
BEGIN:VEVENT
DTSTART;VALUE=DATE:20261004
DTEND;VALUE=DATE:20261019
DTSTAMP:20260420T062401
CREATED:20251108T171547Z
LAST-MODIFIED:20251108T193708Z
UID:10012330-1791097200-1792306799@claudia-korsten-ring.de
SUMMARY:Frauenreise nach Nordisland
DESCRIPTION:Frauenreise Nord-Island –\nSelbstwirksamkeit und Intuition leben\n04. – 17. Oktober 2026\nIsland. Land aus Feuer und Eis.Eine Insel\, die uralte Kräfte in sich trägt – rau\, wild\, klar und magisch.Hier\, im hohen Norden\, öffnet sich Dir ein Tor zu Deiner tiefsten Erinnerung. Geführt von der Weisheit des nordischen Schamanismus und getragen vom Feld weiblicher Verbundenheit. \nWir folgen den Spuren der Völva\, der alten Seherin aus der nordischen Mythologie. Sie steht für das intuitive Wissen\, das in jeder Frau schlummert – für das Sehen\, Fühlen und Wirken im Einklang mit der Erde.Auf dieser Reise verweben sich Rituale\, Stille\, Bewegung und Natur zu einem Raum\, in dem Du Deiner Urkraft begegnest. \nWas Dich erwartet\n\n\nSchamanische Praxis mit einer Völva – Empfange Botschaften aus der Tiefe \n\n\nFolgen der Leylinien – Spüre die Energiebahnen der Erde unter Deinen Füßen \n\n\nProzessorientierte Bewegung – Erlebe Selbstermächtigung in Deiner Körperin \n\n\nYoni Steaming mit isländischen Kräutern – Reinigung\, Erinnerung\, Rückverbindung \n\n\nAtem\, Klang & Meditation – Lausche der Weisheit Deiner Körperin \n\n\nRituale & Elemente – Feuer\, Wasser\, Erde und Luft als Spiegel Deiner inneren Kräfte \n\n\nKreativer Ausdruck – Lass sichtbar werden\, was in Dir wirkt: Ton\, Farbe\, Tanz\, Stimme \n\n\nDiese 14 Tage in der ungezähmten Natur des Nordens sind eine Einladung\, Dich zu erinnern – an das\, was Du bist\, jenseits aller Rollen. Eine Zeit für Tiefe\, Transformation und Selbstvertrauen. \nSpürst Du den Ruf der Insel? Dann folge ihm.Deine Reise beginnt mit Deiner Anmeldung – und mit ihr nimmst Du Deinen Platz im Kreis ein\, verbunden mit den anderen Frauen in der gemeinsamen WhatsApp-Gruppe. \nFolge dem Ruf Deiner Seele und tauche ein in Deine Essenz. \nWir freuen uns auf Dich\nMirjam Scheer & Claudia Korsten-Ring \nDeine Raumhüterinnen auf dieser Reise \nVoraussetzung / Preise / Anmeldung\n\nVoraussetzungen gibt es keine.\nSeminargebühren für Deinen Platz im Kreis in Sougia\n1.111\,– €\nWeitere Infos zur Frauenreise nach Nord-Island\n\n 
URL:https://claudia-korsten-ring.de/veranstaltung/frauenreise-nach-nordisland/
LOCATION:Akureyri Nordisland\, Akureyri\, Iceland
CATEGORIES:Frauenreisen,Norden,nordischer Schamanismus,prozessorientierte Frauenarbeit,Sidebar
ATTACH;FMTTYPE=image/jpeg:https://claudia-korsten-ring.de/wp-content/uploads/2025/09/Island_B1920x500_warmlicht_0125-scaled.jpg
ORGANIZER;CN="Claudia Korsten-Ring":MAILTO:buchung@claudia-korsten-ring.de
END:VEVENT
END:VCALENDAR