BEGIN:VCALENDAR
VERSION:2.0
PRODID:-//Claudia-Korsten-Ring - ECPv6.15.17.1//NONSGML v1.0//EN
CALSCALE:GREGORIAN
METHOD:PUBLISH
X-WR-CALNAME:Claudia-Korsten-Ring
X-ORIGINAL-URL:https://claudia-korsten-ring.de
X-WR-CALDESC:Veranstaltungen für Claudia-Korsten-Ring
REFRESH-INTERVAL;VALUE=DURATION:PT1H
X-Robots-Tag:noindex
X-PUBLISHED-TTL:PT1H
BEGIN:VTIMEZONE
TZID:Europe/Berlin
BEGIN:DAYLIGHT
TZOFFSETFROM:+0100
TZOFFSETTO:+0200
TZNAME:CEST
DTSTART:20250330T010000
END:DAYLIGHT
BEGIN:STANDARD
TZOFFSETFROM:+0200
TZOFFSETTO:+0100
TZNAME:CET
DTSTART:20251026T010000
END:STANDARD
BEGIN:DAYLIGHT
TZOFFSETFROM:+0100
TZOFFSETTO:+0200
TZNAME:CEST
DTSTART:20260329T010000
END:DAYLIGHT
BEGIN:STANDARD
TZOFFSETFROM:+0200
TZOFFSETTO:+0100
TZNAME:CET
DTSTART:20261025T010000
END:STANDARD
BEGIN:DAYLIGHT
TZOFFSETFROM:+0100
TZOFFSETTO:+0200
TZNAME:CEST
DTSTART:20270328T010000
END:DAYLIGHT
BEGIN:STANDARD
TZOFFSETFROM:+0200
TZOFFSETTO:+0100
TZNAME:CET
DTSTART:20271031T010000
END:STANDARD
END:VTIMEZONE
BEGIN:VEVENT
DTSTART;TZID=Europe/Berlin:20260308T110000
DTEND;TZID=Europe/Berlin:20260308T120000
DTSTAMP:20260420T085812
CREATED:20260301T174914Z
LAST-MODIFIED:20260301T174914Z
UID:10012388-1772967600-1772971200@claudia-korsten-ring.de
SUMMARY:Info-Call zur Frauenreise nach Nord-Island am Weltfrauentag
DESCRIPTION:Info-Call zur Frauenreise nach Nord-Island am Weltfrauentag\n\nAm Weltfrauentag\, Sonntag\, 8. März um 11 Uhr\, öffnen Mirjam Scheer und ich\neinen weiteren 60-minütigen Info-Zoom-Call zur Frauenreise nach Nord-Island. \nDieser besondere Tag steht für weibliche Würde\, Selbstbestimmung und den Mut\, dem eigenen Weg zu folgen.\nAus genau dieser Haltung ist auch diese Reise entstanden. \nNord-Island mit seiner Weite\, seinem klaren Licht und seiner elementaren Naturkraft lädt Dich ein\,\nDir selbst neu zu begegnen. Diese Reise verbindet Landschaft\, Gemeinschaft und innere Ausrichtung im weiblichen Feld. \nIm Zoom-Raum geben wir Dir Einblicke in Ablauf\, Inhalte und Intention der Reise.\nDu kannst Deine Fragen stellen\, spüren\, lauschen und prüfen\, ob diese Reise mit Deinem inneren Weg in Resonanz geht. \nDer Info-Call ist für Dich\, wenn Du Dich von Island berührt fühlst und\ndie Kraft einer bewussten Frauenreise erleben möchtest. \nOrt: Online via ZoomDauer: ca. 60 MinutenDen Zugangslink erhältst Du nach Anmeldung per Nachricht. \nWir freuen uns auf Dich. \nWeiblich verbundene GrüßeClaudia Korsten-Ring & Mirjam Scheer
URL:https://claudia-korsten-ring.de/veranstaltung/info-call-zur-frauenreise-nach-nord-island-am-weltfrauentag/
CATEGORIES:Frauenreisen,Online per Zoom,Sidebar
ATTACH;FMTTYPE=image/jpeg:https://claudia-korsten-ring.de/wp-content/uploads/2026/03/Island_InfoCall_083026.jpg
ORGANIZER;CN="Claudia Korsten-Ring":MAILTO:buchung@claudia-korsten-ring.de
LOCATION:
END:VEVENT
END:VCALENDAR