BEGIN:VCALENDAR
VERSION:2.0
PRODID:-//Claudia-Korsten-Ring - ECPv6.15.17.1//NONSGML v1.0//EN
CALSCALE:GREGORIAN
METHOD:PUBLISH
X-WR-CALNAME:Claudia-Korsten-Ring
X-ORIGINAL-URL:https://claudia-korsten-ring.de
X-WR-CALDESC:Veranstaltungen für Claudia-Korsten-Ring
REFRESH-INTERVAL;VALUE=DURATION:PT1H
X-Robots-Tag:noindex
X-PUBLISHED-TTL:PT1H
BEGIN:VTIMEZONE
TZID:Europe/Berlin
BEGIN:DAYLIGHT
TZOFFSETFROM:+0100
TZOFFSETTO:+0200
TZNAME:CEST
DTSTART:20220327T010000
END:DAYLIGHT
BEGIN:STANDARD
TZOFFSETFROM:+0200
TZOFFSETTO:+0100
TZNAME:CET
DTSTART:20221030T010000
END:STANDARD
BEGIN:DAYLIGHT
TZOFFSETFROM:+0100
TZOFFSETTO:+0200
TZNAME:CEST
DTSTART:20230326T010000
END:DAYLIGHT
BEGIN:STANDARD
TZOFFSETFROM:+0200
TZOFFSETTO:+0100
TZNAME:CET
DTSTART:20231029T010000
END:STANDARD
BEGIN:DAYLIGHT
TZOFFSETFROM:+0100
TZOFFSETTO:+0200
TZNAME:CEST
DTSTART:20240331T010000
END:DAYLIGHT
BEGIN:STANDARD
TZOFFSETFROM:+0200
TZOFFSETTO:+0100
TZNAME:CET
DTSTART:20241027T010000
END:STANDARD
BEGIN:DAYLIGHT
TZOFFSETFROM:+0100
TZOFFSETTO:+0200
TZNAME:CEST
DTSTART:20250330T010000
END:DAYLIGHT
BEGIN:STANDARD
TZOFFSETFROM:+0200
TZOFFSETTO:+0100
TZNAME:CET
DTSTART:20251026T010000
END:STANDARD
END:VTIMEZONE
BEGIN:VEVENT
DTSTART;VALUE=DATE:20231223
DTEND;VALUE=DATE:20240108
DTSTAMP:20260420T214126
CREATED:20231031T183127Z
LAST-MODIFIED:20231031T183127Z
UID:10008725-1703314800-1704610799@claudia-korsten-ring.de
SUMMARY:Urlaubs- & Regenerationszeit
DESCRIPTION:In der Zeit vom 23. Dezember 2023 bis zum 06. Januar 2024 ist der Raum für Weiblichkeit geschlossen. \nIch ziehe mich für die Rauhnächte zurück. \nIch wünsche Euch und euren Herzmenschen eine schöne Weihnachtszeit und einen guten Übergang in das neue Jahr. \nIm neuen Jahr freue ich mich auf Euch in den Kreisen. \nHerzlichst \nClaudia\nHüterin der Weiblichkeit / Energiefrau / Yogalehrerin
URL:https://claudia-korsten-ring.de/veranstaltung/urlaubs-regenerationszeit-2/
ORGANIZER;CN="Claudia Korsten-Ring":MAILTO:buchung@claudia-korsten-ring.de
END:VEVENT
END:VCALENDAR